BEGIN:VCALENDAR
VERSION:2.0
PRODID:-//NJW - ECPv6.15.20//NONSGML v1.0//EN
CALSCALE:GREGORIAN
METHOD:PUBLISH
X-ORIGINAL-URL:https://northernjusticewatch.org
X-WR-CALDESC:Events for NJW
REFRESH-INTERVAL;VALUE=DURATION:PT1H
X-Robots-Tag:noindex
X-PUBLISHED-TTL:PT1H
BEGIN:VTIMEZONE
TZID:America/Toronto
BEGIN:DAYLIGHT
TZOFFSETFROM:-0500
TZOFFSETTO:-0400
TZNAME:EDT
DTSTART:20240310T070000
END:DAYLIGHT
BEGIN:STANDARD
TZOFFSETFROM:-0400
TZOFFSETTO:-0500
TZNAME:EST
DTSTART:20241103T060000
END:STANDARD
BEGIN:DAYLIGHT
TZOFFSETFROM:-0500
TZOFFSETTO:-0400
TZNAME:EDT
DTSTART:20250309T070000
END:DAYLIGHT
BEGIN:STANDARD
TZOFFSETFROM:-0400
TZOFFSETTO:-0500
TZNAME:EST
DTSTART:20251102T060000
END:STANDARD
BEGIN:DAYLIGHT
TZOFFSETFROM:-0500
TZOFFSETTO:-0400
TZNAME:EDT
DTSTART:20260308T070000
END:DAYLIGHT
BEGIN:STANDARD
TZOFFSETFROM:-0400
TZOFFSETTO:-0500
TZNAME:EST
DTSTART:20261101T060000
END:STANDARD
END:VTIMEZONE
BEGIN:VEVENT
DTSTART;TZID=America/Toronto:20250713T120000
DTEND;TZID=America/Toronto:20250713T180000
DTSTAMP:20260422T192933
CREATED:20250619T025424Z
LAST-MODIFIED:20250624T233230Z
UID:287316-1752408000-1752429600@northernjusticewatch.org
SUMMARY:LIVE Project Seminar #3
DESCRIPTION:TitleMechanisms for International Justice and Accountability and How to Bring Cases to International Courts and the UNDateSunday\, July 13 (1 – 4 PM EST)LocationYork Woods Theatre (1785 Finch Ave W\, North York\, ON)\n\n\n\nClick Here To Register For Free!\n\n\n\n \n\n\n\n\n\nKeynote Speaker Background: \n\n\n\nAmanda Ghahremani is an international human rights lawyer and consultant. She was previously the legal director of the Canadian Centre for International Justice. Her expertise includes international criminal law\, international humanitarian law\, corporate accountability\, universal jurisdiction\, and targeted human rights sanctions. \n\n\n\nHer recent work includes co-authoring the legal analysis on genocide for the National Inquiry into Missing and Murdered Indigenous Women and Girls in Canada\, litigating against a Canadian mining company for corporate accountability in the Araya v. Nevsun case\, and successfully leading the international campaign to release Iranian-Canadian political prisoner Professor Homa Hoodfar from arbitrary detention in Iran. \n\n\n\nShe is currently a research fellow at the Human Rights Center at UC Berkeley School of Law and a regular commentator in Canadian media on Canada’s international legal and human rights obligations. Her work and writing can be found at: amandaghahremani.com
URL:https://northernjusticewatch.org/event/287316/
LOCATION:York Woods Theatre\, 1785 Finch Ave W\, North York\, Ontario\, M3N 1M6\, Canada
ATTACH;FMTTYPE=image/png:https://northernjusticewatch.org/wp-content/uploads/2025/06/Copy-of-Copy-of-Live-Project-3-Flyer-1.png
END:VEVENT
END:VCALENDAR