BEGIN:VCALENDAR
VERSION:2.0
PRODID:-//NJW - ECPv6.15.20//NONSGML v1.0//EN
CALSCALE:GREGORIAN
METHOD:PUBLISH
X-WR-CALNAME:NJW
X-ORIGINAL-URL:https://northernjusticewatch.org
X-WR-CALDESC:Events for NJW
REFRESH-INTERVAL;VALUE=DURATION:PT1H
X-Robots-Tag:noindex
X-PUBLISHED-TTL:PT1H
BEGIN:VTIMEZONE
TZID:America/Toronto
BEGIN:DAYLIGHT
TZOFFSETFROM:-0500
TZOFFSETTO:-0400
TZNAME:EDT
DTSTART:20240310T070000
END:DAYLIGHT
BEGIN:STANDARD
TZOFFSETFROM:-0400
TZOFFSETTO:-0500
TZNAME:EST
DTSTART:20241103T060000
END:STANDARD
BEGIN:DAYLIGHT
TZOFFSETFROM:-0500
TZOFFSETTO:-0400
TZNAME:EDT
DTSTART:20250309T070000
END:DAYLIGHT
BEGIN:STANDARD
TZOFFSETFROM:-0400
TZOFFSETTO:-0500
TZNAME:EST
DTSTART:20251102T060000
END:STANDARD
BEGIN:DAYLIGHT
TZOFFSETFROM:-0500
TZOFFSETTO:-0400
TZNAME:EDT
DTSTART:20260308T070000
END:DAYLIGHT
BEGIN:STANDARD
TZOFFSETFROM:-0400
TZOFFSETTO:-0500
TZNAME:EST
DTSTART:20261101T060000
END:STANDARD
END:VTIMEZONE
BEGIN:VEVENT
DTSTART;TZID=America/Toronto:20251011T130000
DTEND;TZID=America/Toronto:20251011T150000
DTSTAMP:20260422T154350
CREATED:20251002T205914Z
LAST-MODIFIED:20251002T210257Z
UID:287471-1760187600-1760194800@northernjusticewatch.org
SUMMARY:LIVE Project Seminar #6
DESCRIPTION:TitleDocumenting and Reporting Human Rights ViolationsDateSaturday\, October 11 (1 – 3 PM EST)ModeOnline Via Zoom For Free\n\n\n\nCLICK HERE TO REGISTER NOW!\n\n\n\n\n\nKeynote Speaker: Toby MendelToby Mendel is the founder and Executive Director of the Centre for Law and Democracy\, an international human rights NGO which provides legal and capacity building expertise regarding foundational rights for democracy. From 1997-2009\, he was Senior Director for Law at ARTICLE 19\, an NGO focusing on freedom of expression and the right to information. He has collaborated extensively with inter-governmental actors working in these areas\, as well as numerous governments and NGOs in countries all over the world. He is the author of a large number of articles\, monographs and books on a range of freedom of expression\, right to information and communication rights issues.
URL:https://northernjusticewatch.org/event/live-project-seminar-6/
ATTACH;FMTTYPE=image/png:https://northernjusticewatch.org/wp-content/uploads/2025/10/Seminar-6-Flyer.png
END:VEVENT
END:VCALENDAR