BEGIN:VCALENDAR
VERSION:2.0
PRODID:-//NJW - ECPv6.15.20//NONSGML v1.0//EN
CALSCALE:GREGORIAN
METHOD:PUBLISH
X-ORIGINAL-URL:https://northernjusticewatch.org
X-WR-CALDESC:Events for NJW
REFRESH-INTERVAL;VALUE=DURATION:PT1H
X-Robots-Tag:noindex
X-PUBLISHED-TTL:PT1H
BEGIN:VTIMEZONE
TZID:America/Toronto
BEGIN:DAYLIGHT
TZOFFSETFROM:-0500
TZOFFSETTO:-0400
TZNAME:EDT
DTSTART:20220313T070000
END:DAYLIGHT
BEGIN:STANDARD
TZOFFSETFROM:-0400
TZOFFSETTO:-0500
TZNAME:EST
DTSTART:20221106T060000
END:STANDARD
BEGIN:DAYLIGHT
TZOFFSETFROM:-0500
TZOFFSETTO:-0400
TZNAME:EDT
DTSTART:20230312T070000
END:DAYLIGHT
BEGIN:STANDARD
TZOFFSETFROM:-0400
TZOFFSETTO:-0500
TZNAME:EST
DTSTART:20231105T060000
END:STANDARD
BEGIN:DAYLIGHT
TZOFFSETFROM:-0500
TZOFFSETTO:-0400
TZNAME:EDT
DTSTART:20240310T070000
END:DAYLIGHT
BEGIN:STANDARD
TZOFFSETFROM:-0400
TZOFFSETTO:-0500
TZNAME:EST
DTSTART:20241103T060000
END:STANDARD
END:VTIMEZONE
BEGIN:VEVENT
DTSTART;TZID=America/Toronto:20230619T120000
DTEND;TZID=America/Toronto:20230619T170000
DTSTAMP:20260424T061306
CREATED:20230619T140015Z
LAST-MODIFIED:20241130T012254Z
UID:198-1687176000-1687194000@northernjusticewatch.org
SUMMARY:March for Refugee Rights
DESCRIPTION:Amnesty International Canada is hosting a march in Montreal and Toronto\, bringing attention to the obstacles refugees face\, entering Canada\, on June 17- June 19 2023. Our President\, Executive Director and Program Development Director will walk for refugee rights in Toronto.\n\nWearing their white shirts\, a group of members from the Northern Justice Watch will  join other supporters at Minister Mendicino’s office at 2.30PM. Together\, they will march directly south down Bathurst Street\, straight to the waterfront and Ireland Park\, where they will end the event at about 6PM.\n\nThe march aims to remind the perils that refugee claimants face trying to enter Canada because of the STCA. People from diverse backgrounds will walk in solidarity with people seeking safety in Canada!
URL:https://northernjusticewatch.org/event/march-refugee-day/
LOCATION:Other – Toronto\, Canada
CATEGORIES:March
ATTACH;FMTTYPE=image/jpeg:https://northernjusticewatch.org/wp-content/uploads/2023/07/Pink-Black-and-White-Scrapbook-Womens-Rights-Poster-Instagram-Post-Square-1.jpg
END:VEVENT
END:VCALENDAR