BEGIN:VCALENDAR
VERSION:2.0
PRODID:-//NJW - ECPv6.15.20//NONSGML v1.0//EN
CALSCALE:GREGORIAN
METHOD:PUBLISH
X-WR-CALNAME:NJW
X-ORIGINAL-URL:https://northernjusticewatch.org
X-WR-CALDESC:Events for NJW
REFRESH-INTERVAL;VALUE=DURATION:PT1H
X-Robots-Tag:noindex
X-PUBLISHED-TTL:PT1H
BEGIN:VTIMEZONE
TZID:America/Toronto
BEGIN:DAYLIGHT
TZOFFSETFROM:-0500
TZOFFSETTO:-0400
TZNAME:EDT
DTSTART:20220313T070000
END:DAYLIGHT
BEGIN:STANDARD
TZOFFSETFROM:-0400
TZOFFSETTO:-0500
TZNAME:EST
DTSTART:20221106T060000
END:STANDARD
BEGIN:DAYLIGHT
TZOFFSETFROM:-0500
TZOFFSETTO:-0400
TZNAME:EDT
DTSTART:20230312T070000
END:DAYLIGHT
BEGIN:STANDARD
TZOFFSETFROM:-0400
TZOFFSETTO:-0500
TZNAME:EST
DTSTART:20231105T060000
END:STANDARD
BEGIN:DAYLIGHT
TZOFFSETFROM:-0500
TZOFFSETTO:-0400
TZNAME:EDT
DTSTART:20240310T070000
END:DAYLIGHT
BEGIN:STANDARD
TZOFFSETFROM:-0400
TZOFFSETTO:-0500
TZNAME:EST
DTSTART:20241103T060000
END:STANDARD
BEGIN:DAYLIGHT
TZOFFSETFROM:-0500
TZOFFSETTO:-0400
TZNAME:EDT
DTSTART:20250309T070000
END:DAYLIGHT
BEGIN:STANDARD
TZOFFSETFROM:-0400
TZOFFSETTO:-0500
TZNAME:EST
DTSTART:20251102T060000
END:STANDARD
END:VTIMEZONE
BEGIN:VEVENT
DTSTART;TZID=America/Toronto:20240720T130000
DTEND;TZID=America/Toronto:20240720T170000
DTSTAMP:20260425T115507
CREATED:20240713T154808Z
LAST-MODIFIED:20250302T151601Z
UID:286408-1721480400-1721494800@northernjusticewatch.org
SUMMARY:Panel Discussion on the Contemporary Impacts of the Hazara Genocide
DESCRIPTION:Introduction\n\nThe Northern Justice Watch (NJW) is hosting an online panel discussion titled “Contemporary Impacts of the Hazara Genocide” on 20 July 2024. This event aims to delve into the enduring impact of the Hazara Genocide\, featuring expert guest speakers who will provide insights and share stories from victims and the Hazara community worldwide.\n\nObjectives\n\n1. Raise Awareness: Highlight the historical and ongoing impacts of the Hazara Genocide.\n2. Educate: Provide comprehensive background information and the aftermath of the genocide.\n3. Support: Discuss how NJW can assist in navigating the legal and psychological challenges faced by the Hazara community.\n4. Engage: Facilitate a platform for Q&A sessions\, data collection\, and audience engagement.\n\nEvent Structure\n\n– Date: 20 July 2024\n– Time: 1:00 PM – 5:00 PM\n– Platform: Online Zoom\n\nAgenda\n\n1:00 PM – 1:15 PM: Introduction\n– Moderator introduces the guests and the panel topic.\n\n1:15 PM – 2:00 PM: Session 1 – The Background of the Hazara Genocide\n– Discussion on the historical context and events leading to the Hazara genocide.\n\n2:00 PM – 2:15 PM: Session 1 Q&A\n– Interactive session with the audience to answer questions related to Session\n\n2:15 PM – 2:30 PM: Break\n\n2:30 PM – 3:15 PM: Session 2 – The Aftermath of the Hazara Genocide\n– Discussion on the current state of the Hazara people in Canada and around the world.\n– Presentation of a victim’s story to provide a personal perspective.\n\n3:15 PM – 3:30 PM: Session 2 Q&A\n– Interactive session with the audience to answer questions related to Session\n\n3:30 PM – 3:45 PM: Break\n\n3:45 PM – 4:30 PM: Session 3 – How NJW Can Help Navigate the Legal and Psychological Challenges of the Genocide\n– Discussion on NJW’s role in providing legal and psychological support to the Hazara community.\n\n4:30 PM – 4:45 PM: Data Collection and Survey\n– Gathering data from participants to understand their perspectives and needs better.\n\n4:45 PM – 5:00 PM: Session 3 Q&A\n– Interactive session with the audience to answer questions related to Session 3\n\nPotential Guest Speakers\n\n– Ali Reza Yasa\n– Dr. Rahela Kaveer\n– Dr. Tahir Sharan\n\nEvent Details\n\nClick here to join.\n\n 
URL:https://northernjusticewatch.org/event/panel-discussion-on-the-contemporary-impacts-of-the-hazara-genocide/
LOCATION:Online – Zoom
CATEGORIES:Discussion,Panel
ATTACH;FMTTYPE=image/png:https://northernjusticewatch.org/wp-content/uploads/2024/07/79ED3FBA-0322-4E06-A234-9A1C735EAEB4.png
ORGANIZER;CN="Northern Justice Watch":MAILTO:info@northernjusticewatch.org
END:VEVENT
BEGIN:VEVENT
DTSTART;TZID=America/Toronto:20231202T110000
DTEND;TZID=America/Toronto:20231203T180000
DTSTAMP:20260425T115507
CREATED:20230920T153607Z
LAST-MODIFIED:20241129T235933Z
UID:285748-1701514800-1701626400@northernjusticewatch.org
SUMMARY:International Conference on Genocide and Crimes Against Humanity
DESCRIPTION:Elevate Your Academic Journey: Win a $500 Scholarship at the International Conference on Genocide and Crimes Against Humanity \nWe are proud to present the “International Conference on Genocide and Crimes Against Humanity\,” a crucial gathering of minds dedicated to addressing the most grave violations of human rights globally. This significant event will be hosted in partnership with:\n\n– The Alliance of Genocide Victim Communities\n\n– Human Rights Action Group\n\n– Amnesty University of Toronto Scarborough\n– Amnesty International at York \n– Political Science Students Association UTSC \nIt will take place on December 2 and 3\, 2023\, from 11:00 AM to 6:00 PM EST\, hosted at the prestigious University of Toronto\, Scarborough.\n\nDemonstrating our steadfast dedication to nurturing awareness\, accountability\, and justice\, we are bestowing a scholarship of $500 each to four outstanding students. The winners will be raffled from the attendees of the two-day conference\, recognizing their zeal and commitment to the cause of human rights.\n\nOur distinguished lineup of speakers includes:\n\n 	Abdulrahman Matar\n 	Alex Neve\n 	Asoo Qadir\n 	David Matas\n 	Davut Akca\n 	Derakhshan Qurban-Ali\n 	Ewelina U. Ochab\n 	Farhad Rezaei\n 	Hamza Ansari\n 	Huseyin Demirtas\n 	Joanne Hodges\n 	Millete Birhanemaskel\n 	Mark Kersten\n 	Mukesh Kapila\n 	Peter Stoett\n 	Sameer Zuberi\n 	Sarah Teich\n 	Sherap Therchin\n\nOur conference aims to delve into critical issues related to genocide and crimes against humanity\, promoting awareness\, accountability\, and justice. We invite scholars\, activists\, and global citizens to participate in this significant dialogue.\n\nDon’t miss this opportunity to engage with leading experts and join the global conversation on the most pressing human rights challenges. Register today to secure your place at the “International Conference on Genocide and Crimes Against Humanity.”\n\nTogether\, we can work towards a world where justice prevails and human rights are upheld.\n\nWe look forward to your participation in this transformative event.\n\nBook your seat: https://www.eventbrite.ca/e/international-conference-on-genocide-and-crimes-against-humanity-tickets-734277593047\n\nFeel free to check out the agenda and biographies of the speakers for this conference:\n\nItinerary\n\nNJW Conference Booklet (Compressed)
URL:https://northernjusticewatch.org/event/international-genocide-conference/
LOCATION:University of Toronto\, Scarborough\, 1265 Military Trail\, Scarborough\, Ontario\, M1C 1A4\, Canada
CATEGORIES:Conferences and Symposia
ATTACH;FMTTYPE=image/png:https://northernjusticewatch.org/wp-content/uploads/2023/09/Green-Orange-Modern-Business-Conference-Instagram-Post-5.png
ORGANIZER;CN="Northern Justice Watch":MAILTO:info@northernjusticewatch.org
END:VEVENT
BEGIN:VEVENT
DTSTART;TZID=America/Toronto:20230827T110000
DTEND;TZID=America/Toronto:20230827T160000
DTSTAMP:20260425T115507
CREATED:20230815T200251Z
LAST-MODIFIED:20241130T001735Z
UID:285673-1693134000-1693152000@northernjusticewatch.org
SUMMARY:Combatting Hate Speech
DESCRIPTION:Join Us to Combat Hate Speech!\n \n\nAre you passionate about promoting inclusivity and standing up against hate speech? Then mark your calendars for the “Combatting Hate Speech” event happening on Sunday\, August 27\, 2023 at 11:00 AM Eastern Daylight Time! Amnesty International UTSC and Human Rights Action Group joined us organizing this event for you.\n\n \n\nThis in-person gathering aims to bring together individuals from diverse backgrounds to discuss and find solutions to the growing problem of hate speech in our society. Through engaging talks\, and thought-provoking panel discussions\, we will delve into the impact of hate speech and explore strategies to counter it.\n\n \n\nAt the “Combatting Hate Speech” event\, you’ll have the opportunity to connect with like-minded individuals\, learn from experts in the field\, and share your experiences. Together\, we can create a safer and more inclusive environment for everyone.\n\n \n\nDon’t miss out on this important event! Join us in taking a stand against hate speech and making a positive change. Together\, we can make a difference!\n\n \n\nMake sure to register via the Eventbrite link.
URL:https://northernjusticewatch.org/event/combatting-hate-speech/
LOCATION:University of Toronto\, Scarborough\, 1265 Military Trail\, Scarborough\, Ontario\, M1C 1A4\, Canada
CATEGORIES:Seminer
ATTACH;FMTTYPE=image/png:https://northernjusticewatch.org/wp-content/uploads/2023/08/Grey-Black-and-Yellow-Modern-Professional-Business-Conference-Poster-4.png
ORGANIZER;CN="Northern Justice Watch":MAILTO:info@northernjusticewatch.org
END:VEVENT
BEGIN:VEVENT
DTSTART;TZID=America/Toronto:20230619T120000
DTEND;TZID=America/Toronto:20230619T170000
DTSTAMP:20260425T115507
CREATED:20230619T140015Z
LAST-MODIFIED:20241130T012254Z
UID:198-1687176000-1687194000@northernjusticewatch.org
SUMMARY:March for Refugee Rights
DESCRIPTION:Amnesty International Canada is hosting a march in Montreal and Toronto\, bringing attention to the obstacles refugees face\, entering Canada\, on June 17- June 19 2023. Our President\, Executive Director and Program Development Director will walk for refugee rights in Toronto.\n\nWearing their white shirts\, a group of members from the Northern Justice Watch will  join other supporters at Minister Mendicino’s office at 2.30PM. Together\, they will march directly south down Bathurst Street\, straight to the waterfront and Ireland Park\, where they will end the event at about 6PM.\n\nThe march aims to remind the perils that refugee claimants face trying to enter Canada because of the STCA. People from diverse backgrounds will walk in solidarity with people seeking safety in Canada!
URL:https://northernjusticewatch.org/event/march-refugee-day/
LOCATION:Other – Toronto\, Canada
CATEGORIES:March
ATTACH;FMTTYPE=image/jpeg:https://northernjusticewatch.org/wp-content/uploads/2023/07/Pink-Black-and-White-Scrapbook-Womens-Rights-Poster-Instagram-Post-Square-1.jpg
END:VEVENT
END:VCALENDAR