BEGIN:VCALENDAR
VERSION:2.0
PRODID:-//NJW - ECPv6.15.20//NONSGML v1.0//EN
CALSCALE:GREGORIAN
METHOD:PUBLISH
X-WR-CALNAME:NJW
X-ORIGINAL-URL:https://northernjusticewatch.org
X-WR-CALDESC:Events for NJW
REFRESH-INTERVAL;VALUE=DURATION:PT1H
X-Robots-Tag:noindex
X-PUBLISHED-TTL:PT1H
BEGIN:VTIMEZONE
TZID:America/Toronto
BEGIN:DAYLIGHT
TZOFFSETFROM:-0500
TZOFFSETTO:-0400
TZNAME:EDT
DTSTART:20240310T070000
END:DAYLIGHT
BEGIN:STANDARD
TZOFFSETFROM:-0400
TZOFFSETTO:-0500
TZNAME:EST
DTSTART:20241103T060000
END:STANDARD
BEGIN:DAYLIGHT
TZOFFSETFROM:-0500
TZOFFSETTO:-0400
TZNAME:EDT
DTSTART:20250309T070000
END:DAYLIGHT
BEGIN:STANDARD
TZOFFSETFROM:-0400
TZOFFSETTO:-0500
TZNAME:EST
DTSTART:20251102T060000
END:STANDARD
BEGIN:DAYLIGHT
TZOFFSETFROM:-0500
TZOFFSETTO:-0400
TZNAME:EDT
DTSTART:20260308T070000
END:DAYLIGHT
BEGIN:STANDARD
TZOFFSETFROM:-0400
TZOFFSETTO:-0500
TZNAME:EST
DTSTART:20261101T060000
END:STANDARD
BEGIN:DAYLIGHT
TZOFFSETFROM:-0500
TZOFFSETTO:-0400
TZNAME:EDT
DTSTART:20270314T070000
END:DAYLIGHT
BEGIN:STANDARD
TZOFFSETFROM:-0400
TZOFFSETTO:-0500
TZNAME:EST
DTSTART:20271107T060000
END:STANDARD
END:VTIMEZONE
BEGIN:VEVENT
DTSTART;TZID=America/Toronto:20250413T130000
DTEND;TZID=America/Toronto:20250413T160000
DTSTAMP:20260423T070047
CREATED:20250407T035108Z
LAST-MODIFIED:20250411T152619Z
UID:287208-1744549200-1744560000@northernjusticewatch.org
SUMMARY:LIVE Project Seminar #2
DESCRIPTION:Workshop Title: \n\n\n\nDefining and Categorizing Atrocity Crimes\, And How To Gather Evidence \n\n\n\nDate and Location: \n\n\n\n\nSunday\, April 13 (1 – 4 PM EST)\n\n\n\nToronto Metropolitan University: International Room – International Living/Learning Centre (ILC)\n\nAddress = 240 Jarvis Street\, Toronto\n\n\n\n\n\n\nLivestream: \n\n\n\nCan’t join us in person? No problem. We’ll be live-streaming our upcoming seminar on our youtube channel: @LiveProjectNJW \n\n\n\nIt can also be accessed through this link: https://youtube.com/live/BI9PL75Mwr8?feature=share  \n\n\n\nSeminar Information: \n\n\n\nThis FREE in-person seminar will provide a comprehensive overview of atrocity crimes—including genocide\, war crimes\, crimes against humanity\, and ethnic cleansing—focusing on their legal definitions and international frameworks. Participants will also receive practical training on how to document\, collect\, and preserve evidence in a legally admissible and secure manner. \n\n\n\nKeynote Speaker: \n\n\n\nWe are honoured to announce that Dr. Mark Kersten will be joining us as a Keynote Speaker for our upcoming seminar on “Defining and Categorizing Atrocity Crimes\, and How to Gather Evidence”\, taking place on April 13\, 2025\, in Toronto\, Canada. Dr. Kersten is a renowned expert in international justice. He currently serves as a Senior Consultant at the Wayamo Foundation and is an Assistant Professor of Criminology and Criminal Justice at the University of the Fraser Valley\, British Columbia.  \n\n\n\nMark’s groundbreaking work focuses on:  \n\n\n\n\nThe investigation and prosecution of international crimes\n\n\n\nMass atrocity response and prevention\n\n\n\nThe role and impact of the International Criminal Court (ICC)\n\n\n\nTransitional justice in conflict zones \n\n\n\nDomestic accountability for war crimes\n\n\n\n\nHe is the founder of the widely respected blog Justice in Conflict\, and the author of Justice in Conflict: The Effects of the ICC’s Interventions on Ending Wars and Building Peace\, published by Oxford University Press. \n\n\n\nHis writing has been featured in The Globe and Mail\, Foreign Policy\, The Washington Post\, and numerous academic publications. He has also taught at prestigious institutions including the London School of Economics\, SOAS\, and the Trudeau Centre for Peace\, Conflict\, and Justice. \n\n\n\nDuring the seminar\, Dr. Kersten will share his deep insights into international atrocity crimes\, legal frameworks\, and best practices in documenting and prosecuting such offenses—bringing immense value to both practitioners and affected communities. \n\n\n\nDon’t miss this powerful event. Stay tuned for more updates! \n\n\n\nBackground: \n\n\n\nThe LIVE Project\, supported by The Law Foundation of Ontario\, empowers Ontario’s underserved communities—particularly survivors of atrocity crimes from different communities through accessible legal education. The Law Foundation Ontario\, dedicated to advancing access to justice\, provides funding to initiatives that support legal education\, research\, and services for marginalized populations. Through a series of community-based seminars\, the LIVE Project equips participants with knowledge of Canadian legal rights\, international human rights laws\, and avenues for justice. These seminars aim to build confidence\, enhance legal literacy\, and foster a sense of empowerment by addressing real legal needs and providing practical tools for advocacy and navigating the legal system. LIVE brings together a diverse team of legal educators\, researchers\, and community advocates who work closely with victims to ensure all content is culturally relevant\, legally accurate\, and empowering. \n\n\n\nConclusion: \n\n\n\nFor more information\, please contact us at: \n\n\n\nEmail: liveproject.njw@gmail.com \n\n\n\nSocial Media: Facebook | Twitter | Instagram (@NJusticeWatch)
URL:https://northernjusticewatch.org/event/live_seminer_2/
LOCATION:Toronto Metropolitan University\, International Room\, International Living/Learning Centre (ILC)\, 240 Jarvis Street\, Toronto\, M5B 2L1\, Canada
CATEGORIES:Seminer,Workshops and Training Sessions
ATTACH;FMTTYPE=image/png:https://northernjusticewatch.org/wp-content/uploads/2025/04/Screenshot-2025-04-06-at-11.16.08 PM.png
END:VEVENT
BEGIN:VEVENT
DTSTART;TZID=America/Toronto:20250523T090000
DTEND;TZID=America/Toronto:20250524T170000
DTSTAMP:20260423T070047
CREATED:20250302T150734Z
LAST-MODIFIED:20250514T203222Z
UID:287049-1747990800-1748106000@northernjusticewatch.org
SUMMARY:
DESCRIPTION:Conference Details:\n\n\n\n\n\nDate:May 23 & 24 (9 AM – 5 PM)Location:University of OttawaBuilding: Fauteux Hall at 57 Louis-Pasteur Private\, K1N 6N5Room: FTX147 (Gowlings Moot Court)Event Tags:2025\, conference\, crimes against humanity\, genocideOrganizers:Northern Justice WatchHuman Rights Research and Education Centre (HRREC) at the University of Ottawa ⁠Lakehead UniversityCentre For Free Expression at Toronto Metropolitan UniversityCentre on Hate\, Bias and Extremism at Ontario Tech University\n\n\n\nClick Here To Register For Free!\n\n\n\n\n\n\n\nOverview: \n\n\n\nThe International Conference on Countering Hate and Polarization is a crucial gathering of global experts\, policymakers\, scholars\, and community leaders to address the escalating impact of hate speech\, prejudice\, and societal polarization. The conference aims to explore the trajectory from prejudice to hate crimes and even atrocities\, presenting opportunities for both preventive and remedial strategies. \n\n\n\nObjectives: \n\n\n\n\nTo assess and develop comprehensive strategies for hate speech and reducing polarization in society.\n\n\n\nTo examine the links between hate speech\, social polarization\, serious crimes\, including genocide and crimes against humanity.\n\n\n\nTo promote collaboration among government officials\, educators\, community leaders\, and civil society to combat hate speech.\n\n\n\nTo provide a platform for sharing community-based experiences and effective practices for building societal resilience.\n\n\n\n\nKey Topics: \n\n\n\n\nPsychological and social factors contributing to hate and polarization.\n\n\n\nThe impact of digital platforms on the spread of hate speech.\n\n\n\nStages of escalation from hate speech to hate crimes and mass atrocities.\n\n\n\nLegal frameworks and enforcement challenges in addressing hate speech.\n\n\n\nThe role of community resilience\, education\, and media in preventing hate.\n\n\n\nVictimization of specific communities and community-based responses.\n\n\n\nThe influence of economic\, political\, and social drivers on polarization.\n\n\n\nBest practices for interfaith and cross-cultural dialogues.\n\n\n\n\nParticipants: \n\n\n\nThe conference will feature approximately 16 prominent speakers from diverse backgrounds\, including international human rights advocates\, community organizers\, policymakers\, and legal scholars. Participation is expected from UN representatives\, digital platform leaders\, and members of vulnerable communities. \n\n\n\nExpected Outcomes: \n\n\n\n\nActionable recommendations for countering hate speech and polarization at local\, national\, and international levels.\n\n\n\nPractical strategies for empowering communities and supporting victims of hate speech.\n\n\n\nA network of professionals and community leaders dedicated to fostering inclusivity and reducing polarization.\n\n\n\nCollaborative frameworks for ongoing research and dialogue on countering hate-driven polarization.\n\n\n\n\nThis conference is an essential opportunity to advance global and community-specific efforts in addressing the roots of hate and polarization. By convening a diverse group of stakeholders\, the event aims to inspire collaborative action toward a more inclusive and resilient society. \n\n\n\nDay 1 Agenda (Friday\, May 23):\n\n\n\n8:30 AM – 9:00 AM – Registration \n\n\n\n9:00 AM – 10:00 AM – Keynote Addresses \n\n\n\n\nProf. John Packer\, Human Rights Research and Education Centre\, University of Ottawa\n\n\n\n\n\nDr. Faisal Bhabha\, Centre for Free Expression & Osgoode Hall Law School\, York University\n\n\n\n\n10:00 AM – 10:15 AM – Refreshment Break \n\n\n\n10:15 AM – 11:30 AM – Panel 1: The Blurring Line Between Hate Speech and Freedom of Expression. Speakers: \n\n\n\n\nAlex Neve\, Senior Fellow\, Graduate School of Public and International Affairs\, University of Ottawa\n\n\n\nToby Mendel\, Centre for Law and Democracy\n\n\n\nLex Gill\, Trudel Johnston & Lespérance / Citizen Lab\n\n\n\n\n11:30 AM – 11:45 AM – Refreshment Break \n\n\n\n11:45 AM – 1:00 PM – Panel 2: Roots of Polarization. Speakers: \n\n\n\n\nBrad Galloway\, Centre on Hate\, Bias and Extremism\n\n\n\n\n\nEvan Balgord\, Anti-Hate Network\n\n\n\n\n\nVictoria Kuketz\, Public Policy Forum\n\n\n\n\n1:00 PM – 1:45 PM – Lunch Break \n\n\n\n1:45 PM – 3:00 PM – Panel 3: Online Hate and Freedom of Expression on Social Media. Speakers: \n\n\n\n\nAnaïs Bussières McNicoll\, Canadian Civil Liberties Association\n\n\n\n\n\nAislin Jackson\, BC Civil Liberties Association\n\n\n\n\n\nRizwan Mohammad\, National Council of Canadian Muslims (NCCM)\n\n\n\n\n3:00 PM – 3:15 PM – Refreshment Break \n\n\n\n3:15 PM – 4:30 PM – Panel 4: Impacts on Victims and Communities. Speakers: \n\n\n\n\nMariam Musse\, Office of the Federal Ombudsperson for Victims of Crime\n\n\n\nDr. Davut Akca\, Assistant Professor\, Lakehead University\n\n\n\nDr. Ronan Lee\, Loughborough University- Weaponizing History: Hate Speech and Myanmar’s Rohingya Genocide\n\n\n\n\nDay 2 Agenda (Saturday\, May 24):\n\n\n\n9:00 AM – 9:30 AM – Morning Refreshments \n\n\n\n9:30 AM – 10:15 AM – Keynote Address \n\n\n\n\nIlze Brands-Kehris\, UN Assistant Secretary-General for Human Rights\n\n\n\n\n10:15 AM – 11:30 AM – Panel 5: Responses to Hate Crimes and Hate Speech. Speakers: \n\n\n\n\nMoiz Karimjee\, BA\, LLB\, Professor of Law\, Acting Deputy Crown Attorney\, Ottawa\n\n\n\n\n\nS/Sgt. Ali Toghrol\, Ottawa Police Service\, Community Safety Services Unit\n\n\n\n\n\nRicky Veerappan\, OPP\, Office of Professionalism\, Respect\, Inclusion & Leadership\n\n\n\n\n11:30 AM – 11:45 AM – Refreshment Break \n\n\n\n11:45 AM – 1:00 PM – Panel 6: Victim Communities Panel I. Speakers: \n\n\n\n\nDr. Philip Slayton\, Antisemitism\, Lawyer and Writer\n\n\n\n\n\nJoanne Hodges (Tigray community)\n\n\n\n\n\nHannan Mohamud (Black community)\n\n\n\n\n1:00 PM – 1:45 PM – Lunch Break \n\n\n\n1:45 PM – 3:00 PM –  Panel 5: Victim Communities Panel II \n\n\n\n\nJamileh Naso (Yazidi community)\n\n\n\n\n\nDr. Tahir Shaaran (Hazara community)\n\n\n\n\n\nDr. Davut Akca\, Assistant Professor\, Lakehead University (Hizmet Community)\n\n\n\n\n3:00 PM – 3:30 PM – Closing Remarks \n\n\n\n\n\n\n\n\n\nUniversity of Ottawa’s Human Rights Research and Education Centre’s (HRREC) have agreed to co-host the event. \n\n\n\n\n\nPartners:
URL:https://northernjusticewatch.org/event/international-conference-on-countering-hate-and-polarization-addressing-pathways-from-prejudice-to-atrocity-2/
LOCATION:University of Ottawa Conference Venue Room: FTX147 (Gowlings Moot Court)\, Fauteux Hall at 57 Louis-Pasteur Private\, Ottawa\, K1N 6N5\, Canada
CATEGORIES:Conferences and Symposia
ATTACH;FMTTYPE=image/png:https://northernjusticewatch.org/wp-content/uploads/2025/03/Screenshot-2025-04-28-at-11.17.38 AM.png
ORGANIZER;CN="Northern Justice Watch":MAILTO:info@northernjusticewatch.org
END:VEVENT
BEGIN:VEVENT
DTSTART;TZID=America/Toronto:20250713T120000
DTEND;TZID=America/Toronto:20250713T180000
DTSTAMP:20260423T070047
CREATED:20250619T025424Z
LAST-MODIFIED:20250624T233230Z
UID:287316-1752408000-1752429600@northernjusticewatch.org
SUMMARY:LIVE Project Seminar #3
DESCRIPTION:TitleMechanisms for International Justice and Accountability and How to Bring Cases to International Courts and the UNDateSunday\, July 13 (1 – 4 PM EST)LocationYork Woods Theatre (1785 Finch Ave W\, North York\, ON)\n\n\n\nClick Here To Register For Free!\n\n\n\n \n\n\n\n\n\nKeynote Speaker Background: \n\n\n\nAmanda Ghahremani is an international human rights lawyer and consultant. She was previously the legal director of the Canadian Centre for International Justice. Her expertise includes international criminal law\, international humanitarian law\, corporate accountability\, universal jurisdiction\, and targeted human rights sanctions. \n\n\n\nHer recent work includes co-authoring the legal analysis on genocide for the National Inquiry into Missing and Murdered Indigenous Women and Girls in Canada\, litigating against a Canadian mining company for corporate accountability in the Araya v. Nevsun case\, and successfully leading the international campaign to release Iranian-Canadian political prisoner Professor Homa Hoodfar from arbitrary detention in Iran. \n\n\n\nShe is currently a research fellow at the Human Rights Center at UC Berkeley School of Law and a regular commentator in Canadian media on Canada’s international legal and human rights obligations. Her work and writing can be found at: amandaghahremani.com
URL:https://northernjusticewatch.org/event/287316/
LOCATION:York Woods Theatre\, 1785 Finch Ave W\, North York\, Ontario\, M3N 1M6\, Canada
ATTACH;FMTTYPE=image/png:https://northernjusticewatch.org/wp-content/uploads/2025/06/Copy-of-Copy-of-Live-Project-3-Flyer-1.png
END:VEVENT
BEGIN:VEVENT
DTSTART;TZID=America/Toronto:20250824T120000
DTEND;TZID=America/Toronto:20250824T150000
DTSTAMP:20260423T070047
CREATED:20250805T213821Z
LAST-MODIFIED:20250806T005245Z
UID:287377-1756036800-1756047600@northernjusticewatch.org
SUMMARY:LIVE Project Seminar #4
DESCRIPTION:TitleMechanisms for Domestic Justice And Accountability In CanadaDateSunday\, August 24 (12 – 3 PM EST)ModeOnline Via Zoom For Free\n\n\n\nClick Here To Register Now\n\n\n\n\n\nKeynote Speaker Background: \n\n\n\nAmanda Ghahremani is an international human rights lawyer and consultant. She was previously the legal director of the Canadian Centre for International Justice. Her expertise includes international criminal law\, international humanitarian law\, corporate accountability\, universal jurisdiction\, and targeted human rights sanctions. \n\n\n\nHer recent work includes co-authoring the legal analysis on genocide for the National Inquiry into Missing and Murdered Indigenous Women and Girls in Canada\, litigating against a Canadian mining company for corporate accountability in the Araya v. Nevsun case\, and successfully leading the international campaign to release Iranian-Canadian political prisoner Professor Homa Hoodfar from arbitrary detention in Iran. \n\n\n\nShe is currently a research fellow at the Human Rights Center at UC Berkeley School of Law and a regular commentator in Canadian media on Canada’s international legal and human rights obligations. Her work and writing can be found at: amandaghahremani.com
URL:https://northernjusticewatch.org/event/live-project-seminar-4/
ATTACH;FMTTYPE=image/png:https://northernjusticewatch.org/wp-content/uploads/2025/08/Seminar-4-Flyer-3.png
END:VEVENT
BEGIN:VEVENT
DTSTART;TZID=America/Toronto:20250920T130000
DTEND;TZID=America/Toronto:20250920T150000
DTSTAMP:20260423T070047
CREATED:20250907T192553Z
LAST-MODIFIED:20250907T193140Z
UID:287440-1758373200-1758380400@northernjusticewatch.org
SUMMARY:LIVE Project Seminar #5
DESCRIPTION:TitleIdentifying Human Rights Violations in Your CommunityDateSaturday\, September 20 (1 – 3 PM EST)ModeOnline Via Zoom For Free\n\n\n\nClick Here To Register Now For Free!\n\n\n\n\n\nKeynote Speaker: Toby Mendel \n\n\n\nToby Mendel is the founder and Executive Director of the Centre for Law and Democracy\, an international human rights NGO which provides legal and capacity building expertise regarding foundational rights for democracy. From 1997-2009\, he was Senior Director for Law at ARTICLE 19\, an NGO focusing on freedom of expression and the right to information. He has collaborated extensively with inter-governmental actors working in these areas\, as well as numerous governments and NGOs in countries all over the world. He is the author of a large number of articles\, monographs and books on a range of freedom of expression\, right to information and communication rights issues.
URL:https://northernjusticewatch.org/event/dsa/
ATTACH;FMTTYPE=image/png:https://northernjusticewatch.org/wp-content/uploads/2025/09/Seminar-5.png
END:VEVENT
BEGIN:VEVENT
DTSTART;TZID=America/Toronto:20251011T130000
DTEND;TZID=America/Toronto:20251011T150000
DTSTAMP:20260423T070047
CREATED:20251002T205914Z
LAST-MODIFIED:20251002T210257Z
UID:287471-1760187600-1760194800@northernjusticewatch.org
SUMMARY:LIVE Project Seminar #6
DESCRIPTION:TitleDocumenting and Reporting Human Rights ViolationsDateSaturday\, October 11 (1 – 3 PM EST)ModeOnline Via Zoom For Free\n\n\n\nCLICK HERE TO REGISTER NOW!\n\n\n\n\n\nKeynote Speaker: Toby MendelToby Mendel is the founder and Executive Director of the Centre for Law and Democracy\, an international human rights NGO which provides legal and capacity building expertise regarding foundational rights for democracy. From 1997-2009\, he was Senior Director for Law at ARTICLE 19\, an NGO focusing on freedom of expression and the right to information. He has collaborated extensively with inter-governmental actors working in these areas\, as well as numerous governments and NGOs in countries all over the world. He is the author of a large number of articles\, monographs and books on a range of freedom of expression\, right to information and communication rights issues.
URL:https://northernjusticewatch.org/event/live-project-seminar-6/
ATTACH;FMTTYPE=image/png:https://northernjusticewatch.org/wp-content/uploads/2025/10/Seminar-6-Flyer.png
END:VEVENT
BEGIN:VEVENT
DTSTART;TZID=America/Toronto:20260208T130000
DTEND;TZID=America/Toronto:20260208T150000
DTSTAMP:20260423T070047
CREATED:20260201T002619Z
LAST-MODIFIED:20260202T124932Z
UID:287768-1770555600-1770562800@northernjusticewatch.org
SUMMARY:LIVE Project Seminar #7
DESCRIPTION:TitleGender Based ViolenceDateSaturday\, February 8th\, 2026ModeOnline via Zoom\n\n\n\nCLICK HERE TO REGISTER NOW!\n\n\n\n\n\nKeynote Speaker: Toby MendelToby Mendel is the founder and Executive Director of the Centre for Law and Democracy\, an international human rights NGO which provides legal and capacity building expertise regarding foundational rights for democracy. From 1997-2009\, he was Senior Director for Law at ARTICLE 19\, an NGO focusing on freedom of expression and the right to information. He has collaborated extensively with inter-governmental actors working in these areas\, as well as numerous governments and NGOs in countries all over the world. He is the author of a large number of articles\, monographs and books on a range of freedom of expression\, right to information and communication rights issues.
URL:https://northernjusticewatch.org/event/__trashed/
ATTACH;FMTTYPE=image/jpeg:https://northernjusticewatch.org/wp-content/uploads/2026/01/WhatsApp-Image-2026-01-31-at-3.10.47-PM.jpeg
END:VEVENT
BEGIN:VEVENT
DTSTART;TZID=America/Toronto:20260426T000000
DTEND;TZID=America/Toronto:20260426T150000
DTSTAMP:20260423T070047
CREATED:20260406T165318Z
LAST-MODIFIED:20260419T174831Z
UID:287935-1777161600-1777215600@northernjusticewatch.org
SUMMARY:LIVE Project Seminar #8
DESCRIPTION:TitleCase Studies of Atrocity Crimes Affecting Specific CommunitiesDateSunday\, April 26th\, 2026Mode(In-Person) Toronto Public Library – North York Central Library in Meeting Room 2/3\n\n\n\nCLICK HERE TO REGISTER NOW!\n\n\n\n\n\nKeynote Speaker: Toby Mendel Toby Mendel is the founder and Executive Director of the Centre for Law and Democracy\, an international human rights NGO which provides legal and capacity building expertise regarding foundational rights for democracy. From 1997-2009\, he was Senior Director for Law at ARTICLE 19\, an NGO focusing on freedom of expression and the right to information. He has collaborated extensively with inter-governmental actors working in these areas\, as well as numerous governments and NGOs in countries all over the world. He is the author of a large number of articles\, monographs and books on a range of freedom of expression\, right to information and communication rights issues.Guest Speaker #1: Mehmet Efe CamanGuest Speaker #2: Joanne M. Hodges
URL:https://northernjusticewatch.org/event/live-project-seminar-8/
ATTACH;FMTTYPE=image/jpeg:https://northernjusticewatch.org/wp-content/uploads/2026/04/LIVE-seminar-8.jpeg
END:VEVENT
BEGIN:VEVENT
DTSTART;TZID=America/Toronto:20260613T170000
DTEND;TZID=America/Toronto:20260613T230000
DTSTAMP:20260423T070047
CREATED:20260421T022124Z
LAST-MODIFIED:20260421T173704Z
UID:288027-1781370000-1781391600@northernjusticewatch.org
SUMMARY:Fundraising Gala Dinner
DESCRIPTION:TitleFundraising Gala DinnerDateSaturday\, June 13th\, 2026Mode(In-Person) Toronto Grand Convention Centre\n\n\n\nCLICK HERE TO REGISTER NOW!
URL:https://northernjusticewatch.org/event/fundraising-gala-dinner/
ATTACH;FMTTYPE=image/jpeg:https://northernjusticewatch.org/wp-content/uploads/2026/04/njw-gala.jpeg
END:VEVENT
END:VCALENDAR