BEGIN:VCALENDAR
VERSION:2.0
PRODID:-//NJW - ECPv6.15.20//NONSGML v1.0//EN
CALSCALE:GREGORIAN
METHOD:PUBLISH
X-ORIGINAL-URL:https://northernjusticewatch.org
X-WR-CALDESC:Events for NJW
REFRESH-INTERVAL;VALUE=DURATION:PT1H
X-Robots-Tag:noindex
X-PUBLISHED-TTL:PT1H
BEGIN:VTIMEZONE
TZID:America/Toronto
BEGIN:DAYLIGHT
TZOFFSETFROM:-0500
TZOFFSETTO:-0400
TZNAME:EDT
DTSTART:20250309T070000
END:DAYLIGHT
BEGIN:STANDARD
TZOFFSETFROM:-0400
TZOFFSETTO:-0500
TZNAME:EST
DTSTART:20251102T060000
END:STANDARD
BEGIN:DAYLIGHT
TZOFFSETFROM:-0500
TZOFFSETTO:-0400
TZNAME:EDT
DTSTART:20260308T070000
END:DAYLIGHT
BEGIN:STANDARD
TZOFFSETFROM:-0400
TZOFFSETTO:-0500
TZNAME:EST
DTSTART:20261101T060000
END:STANDARD
BEGIN:DAYLIGHT
TZOFFSETFROM:-0500
TZOFFSETTO:-0400
TZNAME:EDT
DTSTART:20270314T070000
END:DAYLIGHT
BEGIN:STANDARD
TZOFFSETFROM:-0400
TZOFFSETTO:-0500
TZNAME:EST
DTSTART:20271107T060000
END:STANDARD
END:VTIMEZONE
BEGIN:VEVENT
DTSTART;TZID=America/Toronto:20260426T000000
DTEND;TZID=America/Toronto:20260426T150000
DTSTAMP:20260420T054654
CREATED:20260406T165318Z
LAST-MODIFIED:20260419T174831Z
UID:287935-1777161600-1777215600@northernjusticewatch.org
SUMMARY:LIVE Project Seminar #8
DESCRIPTION:TitleCase Studies of Atrocity Crimes Affecting Specific CommunitiesDateSunday\, April 26th\, 2026Mode(In-Person) Toronto Public Library – North York Central Library in Meeting Room 2/3\n\n\n\nCLICK HERE TO REGISTER NOW!\n\n\n\n\n\nKeynote Speaker: Toby Mendel Toby Mendel is the founder and Executive Director of the Centre for Law and Democracy\, an international human rights NGO which provides legal and capacity building expertise regarding foundational rights for democracy. From 1997-2009\, he was Senior Director for Law at ARTICLE 19\, an NGO focusing on freedom of expression and the right to information. He has collaborated extensively with inter-governmental actors working in these areas\, as well as numerous governments and NGOs in countries all over the world. He is the author of a large number of articles\, monographs and books on a range of freedom of expression\, right to information and communication rights issues.Guest Speaker #1: Mehmet Efe CamanGuest Speaker #2: Joanne M. Hodges
URL:https://northernjusticewatch.org/event/live-project-seminar-8/
ATTACH;FMTTYPE=image/jpeg:https://northernjusticewatch.org/wp-content/uploads/2026/04/LIVE-seminar-8.jpeg
END:VEVENT
END:VCALENDAR