BEGIN:VCALENDAR
VERSION:2.0
PRODID:-//NJW - ECPv6.15.20//NONSGML v1.0//EN
CALSCALE:GREGORIAN
METHOD:PUBLISH
X-WR-CALNAME:NJW
X-ORIGINAL-URL:https://northernjusticewatch.org
X-WR-CALDESC:Events for NJW
REFRESH-INTERVAL;VALUE=DURATION:PT1H
X-Robots-Tag:noindex
X-PUBLISHED-TTL:PT1H
BEGIN:VTIMEZONE
TZID:America/Toronto
BEGIN:DAYLIGHT
TZOFFSETFROM:-0500
TZOFFSETTO:-0400
TZNAME:EDT
DTSTART:20230312T070000
END:DAYLIGHT
BEGIN:STANDARD
TZOFFSETFROM:-0400
TZOFFSETTO:-0500
TZNAME:EST
DTSTART:20231105T060000
END:STANDARD
BEGIN:DAYLIGHT
TZOFFSETFROM:-0500
TZOFFSETTO:-0400
TZNAME:EDT
DTSTART:20240310T070000
END:DAYLIGHT
BEGIN:STANDARD
TZOFFSETFROM:-0400
TZOFFSETTO:-0500
TZNAME:EST
DTSTART:20241103T060000
END:STANDARD
BEGIN:DAYLIGHT
TZOFFSETFROM:-0500
TZOFFSETTO:-0400
TZNAME:EDT
DTSTART:20250309T070000
END:DAYLIGHT
BEGIN:STANDARD
TZOFFSETFROM:-0400
TZOFFSETTO:-0500
TZNAME:EST
DTSTART:20251102T060000
END:STANDARD
END:VTIMEZONE
BEGIN:VEVENT
DTSTART;VALUE=DATE:20240916
DTEND;VALUE=DATE:20240917
DTSTAMP:20260425T064951
CREATED:20240621T222927Z
LAST-MODIFIED:20250302T145031Z
UID:286384-1726444800-1726531199@northernjusticewatch.org
SUMMARY:International Conference on Genocide and Crimes Against Humanity
DESCRIPTION:Northern Justice Watch (NJW) is proud to announce the International Conference on Genocide and Crimes Against Humanity\, focusing on the Yazidi Genocide. This event is part of a comprehensive 12-month action plan aimed at addressing and combating the genocide of the Yazidis. Supported by 14 partner organizations\, including RABA and Green Desert\, and conducted in collaboration with the Kurdish Regional Government (KRG) and in partnership with Salahaddin University\, this conference will be held at Salahaddin University in Erbil\, Kurdistan Region\, Iraq\, on September 16\, 2024.\n\nBackground:\nThe Yazidi genocide\, perpetrated by ISIS\, resulted in unimaginable suffering for the Yazidi community. Thousands were killed\, women and children were enslaved\, and many remain missing. This conference aims to highlight the atrocities committed against the Yazidis\, raise global awareness\, and mobilize efforts to support survivors and ensure justice for the victims.\n\nObjectives:\n\nRaising Awareness:\n– Educate the international community about the atrocities committed against the Yazidis to foster a deeper understanding and empathy for the victims.\n– Ensure that such horrors are never repeated by keeping the memory of these atrocities alive in the global consciousness.\n\nDiscussion on Missing Persons:\n– Provide a platform for discussions on the many Yazidis who remain unaccounted for\, aiming to mobilize efforts to locate and reunite families.\n\nVictim Support:\n– Explore effective strategies for supporting the victims\, including psychological aid\, community rehabilitation\, and legal assistance.\n– Focus on the well-being of survivors\, identifying ways to bolster their resilience and recovery.\n\nInternational Action:\n– Galvanize international action through compelling presentations and discussions.\n– Advocate for a coordinated global response to address the aftermath of the genocide\, including justice for the perpetrators and ongoing support for the Yazidi community.\n\nCollaboration and Partnership:\n– Foster partnerships and collaborations by bringing together diverse stakeholders to lead meaningful change.\n\nKey Highlights:\n\nSurvivor Testimonies:\n– Engage with powerful survivor accounts\, highlighting the personal impact of the genocide and the ongoing struggle for justice and reparations.\n\nExpert Panels and Discussions:\n– Hear from leading human rights activists\, legal experts\, and policymakers.\n– Participate in discussions aimed at fostering international cooperation\, sharing best practices\, and innovating strategies for prevention and justice.\n\nWorkshops and Breakout Sessions:\n– Attend workshops focusing on specific aspects of the genocide and its aftermath\, such as legal avenues for justice\, psychological support for survivors\, and strategies for community rehabilitation.\n\nPolicy Recommendations:\n– Contribute to shaping actionable policy recommendations to guide global efforts in protecting human rights and preventing future atrocities.\n\nExpected Outcomes:\n– Increased Awareness: Enhanced understanding of the Yazidi genocide among international stakeholders.\n– Policy Development: Formulation of concrete policy recommendations to address genocide and crimes against humanity.\n– Support Networks: Strengthened support networks for Yazidi survivors\, facilitating their recovery and reintegration.\n– Global Action: Mobilization of international efforts to pursue justice for the Yazidi community and prevent future genocides.\n\nTarget Audience:\nThis conference is crucial for human rights advocates\, legal experts\, policymakers\, scholars\, and anyone committed to combating genocide and crimes against humanity. We invite organizations and individuals passionate about human rights to join us in this crucial endeavor\, contributing to a global movement dedicated to dignity and justice for all.\n\nConclusion:\nThe Erbil conference is an integral part of NJW’s broader effort to combat crimes against humanity. By focusing on the Yazidi genocide\, we seek not only to honor the memory of those lost but also to lay the groundwork for healing\, justice\, and prevention of future atrocities. Join us in this mission to ensure that the lessons of the past inform a more just and humane future.
URL:https://northernjusticewatch.org/event/international-conference-on-genocide-and-crimes-against-humanity-2/
LOCATION:Erbil
CATEGORIES:Conferences and Symposia
ATTACH;FMTTYPE=image/png:https://northernjusticewatch.org/wp-content/uploads/2024/06/Yazidi-Flyer.png
ORGANIZER;CN="Northern Justice Watch":MAILTO:info@northernjusticewatch.org
END:VEVENT
BEGIN:VEVENT
DTSTART;TZID=America/Toronto:20240916T100000
DTEND;TZID=America/Toronto:20240916T160000
DTSTAMP:20260425T064951
CREATED:20240914T193551Z
LAST-MODIFIED:20250402T175039Z
UID:286516-1726480800-1726502400@northernjusticewatch.org
SUMMARY:2. INTERNATIONAL CONFERENCE ON GENOCIDE AND CRIMES AGAINST HUMANITY!
DESCRIPTION:Northern Justice Watch (NJW) is proud to announce the International Conference on Genocide and Crimes Against Humanity\, focusing on the Yazidi Genocide. This event is part of a comprehensive 12-month action plan aimed at addressing and combating the genocide of the Yazidis. Supported by 14 partner organizations\, including RABA and Green Desert\, and conducted in collaboration with the Kurdish Regional Government (KRG) and in partnership with Salahaddin University\, this conference will be held at Salahaddin University in Erbil\, Kurdistan Region\, Iraq\, on September 16\, 2024.\n\nYou’re invited to the 2nd International Conference on Genocide & Crimes Against Humanity!\n\nHosted by Northern Justice Watch\, this conference will focus on the Yazidi Genocide as part of a 12-month action plan dedicated to combating genocide and supporting victims. Join us for an impactful event featuring powerful survivor testimonies\, expert panels\, and in-depth discussions on justice\, prevention\, and global collaboration.\n\n \n\n️Date: September 16\, 2024\nTime: 10:00 AM – 4:00 PM\nLocation: University of Salahaddin – Cultural Center\, 42RC+Q64\, Erbil\, Erbil Governorate\, Iraq\n\nEvent Highlights:\n– Keynote Speakers: Alex Neve\, Bahar Ali\, Bojan Gavrilovic\, Dindar Zebari\, Fawaz Abdulabbas\, Jwan Ismail Bakr\, Khidher Domle\, Krmanj Othman\, Khairi Bozani\, Marie Oniwa\, Mirza Dinnayi\, Muhammad Kalary\, Mukesh Kapila\, Nazand Begikhani\, Payam Akhavan\, Roza Amin Barka\, Shayda Hessami\, Steve Young\, Tammy Ames\, Tanya Gilly.\n– Survivor Testimonies: Hear firsthand accounts that shed light on the personal impacts of the genocide.\n– Expert Panels: Engage with leading human rights advocates\, legal experts\, and policymakers.\n– Workshops & Breakout Sessions: Dive into specialized topics on legal support\, psychological aid\, and community rehabilitation.\n\nWhy Attend?\nGain insights\, connect with international advocates\, and be part of a movement to ensure justice and prevent future atrocities. This is an opportunity to learn\, share\, and collaborate with others dedicated to making a difference in the fight against genocide and crimes against humanity.\n\nRegister: https://www.eventbrite.ca/e/2nd-international-conference-on-genocide-crimes-against-humanity-tickets-1017445104697?aff=oddtdtcreator\n\n#GenocideCon2024 #RememberYazidiGenocide #JusticeForYazidis #NeverForgetYazidis #NorthernJusticeWatch
URL:https://northernjusticewatch.org/event/2-international-conference-on-genocide-and-crimes-against-humanity-defending-dignity-the-international-response-to-the-yazidi-genocide/
LOCATION:Erbil
CATEGORIES:Conferences and Symposia
ATTACH;FMTTYPE=image/png:https://northernjusticewatch.org/wp-content/uploads/2024/09/Copy-of-1-International-conference-on-genocide-and-crime-second-humanity-defending-dignity-and-international-response-on-Yazidi-genocide-1.png
ORGANIZER;CN="Northern Justice Watch":MAILTO:info@northernjusticewatch.org
END:VEVENT
END:VCALENDAR